BEGIN:VCALENDAR
VERSION:2.0
PRODID:-//wp-events-plugin.com//7.2.3.1//EN
BEGIN:VEVENT
UID:273@larlinginnlandet.no
DTSTART;TZID=Europe/Oslo:20241115T090000
DTEND;TZID=Europe/Oslo:20241115T150000
DTSTAMP:20241115T092912Z
URL:https://www.larlinginnlandet.no/kurs/vg3-kurs-telekommunikasjonsmontor
 faget-2024-01-30/
SUMMARY:VG3-kurs telekommunikasjonsmontør
DESCRIPTION:Teori/eksamensforberedende VG3 telekommunikasjonsmontørfaget.
ATTACH;FMTTYPE=image/jpeg:https://www.larlinginnlandet.no/wp-content/uploa
 ds/2023/12/Laerlinger-undervisining-Foto-AmCreation-scaled.jpg
CATEGORIES:Lærlingkurs
LOCATION:Lærlingsenteret Innlandet\, Damvegen 8\, Gjøvik\, 2827\, Innland
 et\, Norway
GEO:60.778535;10.641557
X-APPLE-STRUCTURED-LOCATION;VALUE=URI;X-ADDRESS=Damvegen 8\, Gjøvik\, 2827
 \, Innlandet\, Norway;X-APPLE-RADIUS=100;X-TITLE=Lærlingsenteret Innlande
 t:geo:60.778535,10.641557
END:VEVENT
BEGIN:VTIMEZONE
TZID:Europe/Oslo
X-LIC-LOCATION:Europe/Oslo
BEGIN:STANDARD
DTSTART:20241027T020000
TZOFFSETFROM:+0200
TZOFFSETTO:+0100
TZNAME:CET
END:STANDARD
END:VTIMEZONE
END:VCALENDAR