BEGIN:VCALENDAR
VERSION:2.0
PRODID:-//wp-events-plugin.com//7.2.3.1//EN
BEGIN:VEVENT
UID:12@larlinginnlandet.no
DTSTART;TZID=Europe/Oslo:20250908T080000
DTEND;TZID=Europe/Oslo:20251017T150000
DTSTAMP:20241115T093113Z
URL:https://www.larlinginnlandet.no/kurs/sikkerhetskurs/
SUMMARY:Sikkerhetskurs for 1.årslærlinger
DESCRIPTION:Innkalling til alle 1.års lærlinger kommer\nKurs i Personløf
 ter ABC\, varme arbeider\, førstehjelp\, fallsikring\, FSE og sikker bruk
  av farlig arbeidsutstyr.\n\nFor mer informasjon: Elin@larlinginnlandet.no
ATTACH;FMTTYPE=image/jpeg:https://www.larlinginnlandet.no/wp-content/uploa
 ds/2023/11/Fallsikring.jpg
CATEGORIES:Lærlingkurs
LOCATION:Lærlingsenteret Innlandet\, Damvegen 8\, Gjøvik\, 2827\, Innland
 et\, Norway
GEO:60.778535;10.641557
X-APPLE-STRUCTURED-LOCATION;VALUE=URI;X-ADDRESS=Damvegen 8\, Gjøvik\, 2827
 \, Innlandet\, Norway;X-APPLE-RADIUS=100;X-TITLE=Lærlingsenteret Innlande
 t:geo:60.778535,10.641557
END:VEVENT
BEGIN:VTIMEZONE
TZID:Europe/Oslo
X-LIC-LOCATION:Europe/Oslo
BEGIN:DAYLIGHT
DTSTART:20250330T030000
TZOFFSETFROM:+0100
TZOFFSETTO:+0200
TZNAME:CEST
END:DAYLIGHT
END:VTIMEZONE
END:VCALENDAR