BEGIN:VCALENDAR
VERSION:2.0
PRODID:-//wp-events-plugin.com//7.2.3.1//EN
BEGIN:VEVENT
UID:299@larlinginnlandet.no
DTSTART;TZID=Europe/Oslo:20260413T090000
DTEND;TZID=Europe/Oslo:20260413T143000
DTSTAMP:20260310T112626Z
URL:https://www.larlinginnlandet.no/kurs/instruktorkurs-hamar-3/
SUMMARY:Instruktørkurs Hamar
DESCRIPTION:Lærlingsenteret holder flere instruktørkurs\, nye datoer komm
 er. Kurset er for alle våre medlemsbedrifter som er tett på lærlingen\,
  og gjerne for flere i bedriften om det er mange som veileder lærlingen i
  løpet av læretiden.\n\nKurset kan også gjennomføres med lærling og i
 nstruktør sammen. Kurset er gratis for våre medlemmer. Ta kontakt for pr
 is ikke-medlemmer.
ATTACH;FMTTYPE=image/jpeg:https://www.larlinginnlandet.no/wp-content/uploa
 ds/2023/12/Ilustrasjon-boker-og-kaffe.-Foto-AmCreations-scaled.jpeg
CATEGORIES:Instruktørkurs
LOCATION:Manngard Vakt og Sikkerhet\, Torggata 3\, Hamar\, Norway
X-APPLE-STRUCTURED-LOCATION;VALUE=URI;X-ADDRESS=Torggata 3\, Hamar\, Norway
 ;X-APPLE-RADIUS=100;X-TITLE=Manngard Vakt og Sikkerhet:geo:0,0
END:VEVENT
BEGIN:VTIMEZONE
TZID:Europe/Oslo
X-LIC-LOCATION:Europe/Oslo
BEGIN:DAYLIGHT
DTSTART:20260329T030000
TZOFFSETFROM:+0100
TZOFFSETTO:+0200
TZNAME:CEST
END:DAYLIGHT
END:VTIMEZONE
END:VCALENDAR