BEGIN:VCALENDAR
VERSION:2.0
PRODID:-//wp-events-plugin.com//7.2.3.1//EN
BEGIN:VEVENT
UID:295@larlinginnlandet.no
DTSTART;TZID=Europe/Oslo:20250812T080000
DTEND;TZID=Europe/Oslo:20250812T150000
DTSTAMP:20250226T125834Z
URL:https://www.larlinginnlandet.no/kurs/instruktorkurs-hamar-2/
SUMMARY:Instruktørkurs Hamar
DESCRIPTION:Lærlingsenteret holder flere instruktørkurs\, nye datoer komm
 er. Kurset er for alle våre medlemsbedrifter som er tett på lærlingen\,
  og gjerne for flere i bedriften om det er mange som veileder lærlingen i
  løpet av læretiden.\n\nKurset kan også gjennomføres med lærling og i
 nstruktør sammen. Kurset er gratis for våre medlemmer. Ta kontakt for pr
 is ikke-medlemmer. Vi kommer tilbake til kursadresse.\n\nPåmelding: Irene
 @larlinginnlandet.no
ATTACH;FMTTYPE=image/jpeg:https://www.larlinginnlandet.no/wp-content/uploa
 ds/2024/01/Stilling-ledig_undervisning_WEB-scaled.jpg
CATEGORIES:Instruktørkurs
END:VEVENT
BEGIN:VTIMEZONE
TZID:Europe/Oslo
X-LIC-LOCATION:Europe/Oslo
BEGIN:DAYLIGHT
DTSTART:20250330T030000
TZOFFSETFROM:+0100
TZOFFSETTO:+0200
TZNAME:CEST
END:DAYLIGHT
END:VTIMEZONE
END:VCALENDAR