BEGIN:VCALENDAR
VERSION:2.0
PRODID:-//wp-events-plugin.com//7.2.3.1//EN
BEGIN:VEVENT
UID:25@larlinginnlandet.no
DTSTART;TZID=Europe/Oslo:20240408T083000
DTEND;TZID=Europe/Oslo:20240506T150000
DTSTAMP:20240117T115028Z
URL:https://www.larlinginnlandet.no/kurs/eksamensforberedende-kurs-murerfa
 get/
SUMMARY:Eksamensforberedende kurs murerfaget
DESCRIPTION:5 dagers forberedende kurs for lærlinger i mur og flisleggerfa
 get
ATTACH;FMTTYPE=image/jpeg:https://www.larlinginnlandet.no/wp-content/uploa
 ds/2023/12/murer-flis-Murmesternes-Forening-K.Asper_.png
CATEGORIES:Lærlingkurs
LOCATION:Murmesternes forening Oslo\, Østre Aker vei 24\, Oslo\, Oslo\, 05
 81\, Oslo\, Norway
X-APPLE-STRUCTURED-LOCATION;VALUE=URI;X-ADDRESS=Østre Aker vei 24\, Oslo\,
  Oslo\, 0581\, Oslo\, Norway;X-APPLE-RADIUS=100;X-TITLE=Murmesternes foren
 ing Oslo:geo:0,0
END:VEVENT
BEGIN:VTIMEZONE
TZID:Europe/Oslo
X-LIC-LOCATION:Europe/Oslo
BEGIN:DAYLIGHT
DTSTART:20240331T030000
TZOFFSETFROM:+0100
TZOFFSETTO:+0200
TZNAME:CEST
END:DAYLIGHT
END:VTIMEZONE
END:VCALENDAR